BEGIN:VCALENDAR
VERSION:2.0
PRODID:-//Farm Lovetin - ECPv6.15.0.1//NONSGML v1.0//EN
CALSCALE:GREGORIAN
METHOD:PUBLISH
X-WR-CALNAME:Farm Lovetin
X-ORIGINAL-URL:https://farmlovetin.com
X-WR-CALDESC:Veranstaltungen für Farm Lovetin
REFRESH-INTERVAL;VALUE=DURATION:PT1H
X-Robots-Tag:noindex
X-PUBLISHED-TTL:PT1H
BEGIN:VTIMEZONE
TZID:UTC
BEGIN:STANDARD
TZOFFSETFROM:+0000
TZOFFSETTO:+0000
TZNAME:UTC
DTSTART:20250101T000000
END:STANDARD
END:VTIMEZONE
BEGIN:VEVENT
DTSTART;VALUE=DATE:20251026
DTEND;VALUE=DATE:20251103
DTSTAMP:20260421T102424
CREATED:20250619T103655Z
LAST-MODIFIED:20250921T104216Z
UID:1805-1761436800-1762127999@farmlovetin.com
SUMMARY:DEEP DETOX EXPRESS - 8 Tage
DESCRIPTION:Ganzheitliche Reinigung und Entgiftung für Körper\, Geist & Seele\nErlebe eine transformative Reise zu mehr Klarheit\, Energie und innerer Balance. Das Deep Detox Programm kombiniert moderne Entgiftungsmethoden mit energetischer Heilung – eingebettet in die ruhige Natur der Farm Lovetin. \nDeine Vorteile auf einen Blick:\n\nTiefgreifende Entgiftung mit der bewährten Niacin-Methode\nEnergetische Reinigung durch Cosmic Healing & Tachyonen-Therapie\nEntspannung & Regeneration durch Lymphmassagen\, Chakra-Therapie & Sauna\nGesunde\, nährstoffreiche Detox-Verpflegung inklusive Vollpension\nExklusive\, ruhige\, inspirierende Umgebung auf der idyllischen Farm Lovetin\nIndividuelle Begleitung in deutsch\, tschechisch\, englisch in einer kleinen Gruppe.\n\nWas dich erwartet\nUnser 8-tägiges Deep Detox Programm basiert auf einem ganzheitlichen Ansatz\, der körperliche Entgiftung mit energetischer Reinigung verbindet. \n\nNiacin-Protokoll & Infrarotsauna: Tägliche Einnahme von Niacin (Vitamin B3) in Kombination mit moderater Bewegung und anschließender Tiefenreinigung in der Infrarotsauna zur Ausleitung von Schwermetallen wie Blei\, Cadmium und Quecksilber.\nCOSMIC HEALING: Eine eigens entwickelte multidimensionale Therapie\, die energetische Blockaden löst und die feinstoffliche Ebene reinigt.\nTachyonenkammer: Aufenthalte in der Tachyonenkammer fördern geistige Klarheit und energetische Balance.\nChakren-Therapie & Meditation: Tägliche Sitzungen zur Harmonisierung der Energiezentren und Förderung innerer Ruhe.\nMikrostrom-Therapie: Anwendung von Mikrostrom zur Unterstützung der Zellregeneration und Entgiftung.\nWirkungsvolle Massagen: Gezielte Massagen zur Förderung der Lymphdrainage und Entspannung.\n\nFür wen ist das Deep Detox Programm geeignet?\nDieses Programm richtet sich an alle\, die: \n\nunter chronischer Müdigkeit\, Antriebslosigkeit oder Konzentrationsproblemen leiden\nihren Körper von Umweltgiften und Schwermetallen befreien möchten\neine tiefgreifende körperliche und energetische Reinigung suchen\nihr Immunsystem stärken und ihre Vitalität steigern wollen.\nsich nach innerer Balance und geistiger Klarheit sehnen\n\nWas ist der Unterschied zwischen DEEP DETOX und DEEP DETOX EXPRESS?\nDEEP DETOX EXPRESS ist für Personen\, die sich intensiv entgiften wollen\, es jedoch nicht schaffen\, zwei Wochen Auszeit zu nehmen. Du startest bei uns auf der Farm Lovetin und machst während einer Woche genau die gleichen Therapien wie beim umfassenden Programm. Danach führst du die Parasitenreinigung und die Niacin-Kur zu Hause eine Woche weiter. Du erhältst von uns alle dazu notwendigen Mittel mitgeliefert\, damit du zu Hause weiter machen kannst. Sicher wirst du bei dir in der Nähe ein Fitnesscenter oder eine Saune finden\, wo du täglich die Infrarotsauna nutzen kannst. \nWeitere Informationen & Buchung\nFür detaillierte Informationen zu Terminen\, Preisen und Buchungsmöglichkeiten besuche bitte unsere Webseite Deep Detox \nErlebe eine ganzheitliche Reinigung und finde zurück zu deinem natürlichen Gleichgewicht. \nWir freuen uns darauf\, dich auf deiner Reise zu begleiten! \n\nDas ist inbegriffen:\n\n\n\n\n\n\n\nTagesprogramm mit Niacin (7x – 120 min)\nCosmic Healing (1x – ca 4 Stunden)\nFrequenztherapie (7x – 70 min)\nAufenthalt in der Tachyonenkammer (3x 30 min.)\nÄtherische Miracle-Therapie (1x – 30 min.)\nKristall Chakra Therapie (1x – 30 min.)\nLymphatische Massage (1x – 50 min.)\nUnterkunft (7 Übernachtungen)\nVerpflegung (7x Vollpension)\nLiebevolle individuelle Betreuung\n\nKostenloser Zugang: \n\nEntspannungssystem Zenesse\nYoga\nMorgenmeditation\nFinnische Sauna\nInfrarotsauna\nTherapeutische Pyramiden im Freien\nFahrradverleih\n\n\n\n\n\n\n\n\nPreis für den gesamten Aufenthalt\n\nBasic-Zimmer\n30’800 CZK / 1 Person pro Zimmer\n50’400 CZK / 2 Personen pro Zimmer \n\n\nStandard-Zimmer\n37’100 CZK / 1 Person pro Zimmer\n56’700 CZK / 2 Personen pro Zimmer \n\n\nGarten-Studio\n44’800 CZK / 1 Person pro Zimmer\n66’400 CZK / 2 Personen pro Zimmer \n\nFARM LOVETINThe healing place \n📞 Reservierung: +420 606 888 460📩 E-Mail: info@farmlovetin.com🌍 Web: www.farmlovetin.com
URL:https://farmlovetin.com/event/deep-detox-express-8-tage/
LOCATION:Farma Lovettin\, Lovětín 27\, Jarošov nad Nežárkou-Nová Včelnice\, 37842\, Czech Republic
ATTACH;FMTTYPE=image/jpeg:https://farmlovetin.com/wp-content/uploads/2025/02/1d33df8b-daa3-4870-a88a-a12f406a3c65-1.jpg
ORGANIZER;CN="Farma Lovettin":MAILTO:info@farmlovetin.com
END:VEVENT
END:VCALENDAR